BEGIN:VCALENDAR
VERSION:2.0
PRODID:-//ChamberMaster//Event Calendar 2.0//EN
METHOD:PUBLISH
X-PUBLISHED-TTL:P3D
REFRESH-INTERVAL:P3D
CALSCALE:GREGORIAN
BEGIN:VEVENT
DTSTART:20250319T150000Z
DTEND:20250319T210000Z
X-MICROSOFT-CDO-ALLDAYEVENT:FALSE
SUMMARY:2025 State of Wisconsin Legislative Day
DESCRIPTION:PMC/SMACCA Milwaukee contractors are invited to Madison for the PMSMCA 2025 Legislative Day program on Wednesday\, March 19th. Join us for a luncheon at the Madison Club with a VIP speaker(s) from the WI State Legislature before we break into meetings with state representatives from the home district of your company. \n\nThe Association lobbyists\, Jeff and Eric Knight will work with us to create a series of talking points to share with the legislators as we highlight the benefits of partnering with union friendly\, association contracting firms. This important event is open to Contractor Members only. \n\nShould you have any questions about attending\, or are unsure about what the program will entail\, please contact Jonathan Kowalski at jonathan@pmsmca.com\n\n\nAgenda\n\n\n\n10:00 am MCAW Board Meeting at Madison Club\n\n\n\n11:30 am   1:00 pm   Lunch with VIP (TBD) at Madison Club\n\n\n\n1:00 pm   3:00 pm   Meetings with Legislators (contractors will be assigned/aligned with legislators from their business address/municipality)\n\n\n\nRegistration closes March 3rd.
X-ALT-DESC;FMTTYPE=text/html:<p style="margin: 0px\; padding: 0px\; color: rgb(118\, 118\, 118)\; font-family: &quot\;Century Gothic&quot\;\, Calibri\, Helvetica\, Arial\, sans-serif\; font-size: 18px\; white-space-collapse: preserve\; text-align: center\;"><br />\n<span style="font-family:arial\;"><span style="font-size:16px\;"><span style="color:#000000\;">PMC/SMACCA Milwaukee contractors are invited to Madison for the PMSMCA 2025 Legislative Day program on Wednesday\, March 19th. Join us for a luncheon at the Madison Club with a VIP speaker(s) from the WI State Legislature before we break into meetings with state representatives from the home district of your company.&nbsp\;<br />\nThe Association lobbyists\, Jeff and Eric Knight will work with us to create a series of talking points to share with the legislators as we highlight the benefits of partnering with union friendly\, association contracting firms. This important event is open to Contractor Members only.&nbsp\;<br />\nShould you have any questions about attending\, or are unsure about what the program will entail\, please contact Jonathan Kowalski at&nbsp\;</span><a href="mailto:jonathan@pmsmca.com" target="_blank"><span style="color:#000000\;">jonathan@pmsmca.com</span></a></span></span></p>\n<br />\n<span style="font-size:18px\;"><span style="font-family:arial\;"><strong>Agenda</strong></span></span><br />\n<br />\n<span style="color:#000000\;"><span style="font-size:18px\;"><span style="font-family:arial\;">10:00 am MCAW Board Meeting at Madison Club<br />\n<br />\n11:30 am &ndash\; 1:00 pm &ndash\; Lunch with VIP (TBD) at Madison Club<br />\n<br />\n1:00 pm &ndash\; 3:00 pm &ndash\; Meetings with Legislators (contractors will be assigned/aligned with legislators from their business address/municipality)</span></span></span><br />\n<br />\n<span style="color:#000000\;"><span style="font-family:arial\;"><span style="font-size:18px\;"><strong>Registration closes March 3rd.</strong></span></span></span>
LOCATION:
UID:e.9269.343
SEQUENCE:3
DTSTAMP:20260419T161746Z
URL:https://www.pmsmca.com/events/details/2025-state-of-wisconsin-legislative-day-343
END:VEVENT

END:VCALENDAR
