BEGIN:VCALENDAR
VERSION:2.0
PRODID:-//ChamberMaster//Event Calendar 2.0//EN
METHOD:PUBLISH
X-PUBLISHED-TTL:P3D
REFRESH-INTERVAL:P3D
CALSCALE:GREGORIAN
BEGIN:VEVENT
DTSTART:20250305T173000Z
DTEND:20250305T190000Z
X-MICROSOFT-CDO-ALLDAYEVENT:FALSE
SUMMARY:2025 PMSMCA Women in the Mechanical Industry Lunch- March
DESCRIPTION:PMSMCA will be hosting their first Women in Mechanical Industry working luncheon during WIC week.\n\n\n\nThese lunches are driven from member feedback to create more opportunities for women in the industry to engage and connect.\n\n\n\n Looking forward to some great conversations and ideas to share as we expand this group of Women.
X-ALT-DESC;FMTTYPE=text/html:<br />\n<span style="font-size:18px\;"><span style="color:#000000\;"><span style="font-family:arial\;">PMSMCA will be hosting their first Women in Mechanical Industry working luncheon during WIC week.<br />\n<br />\nThese lunches are driven from member feedback to create more opportunities for women in the industry to engage and connect.<br />\n<br />\n&#65279\;Looking forward to some great conversations and ideas to share as we expand this group of Women.</span></span></span>
LOCATION:Uncle Julio's
UID:e.9269.344
SEQUENCE:3
DTSTAMP:20260419T161930Z
URL:https://www.pmsmca.com/events/details/2025-pmsmca-women-in-the-mechanical-industry-lunch-march-344
END:VEVENT

END:VCALENDAR
