BEGIN:VCALENDAR
VERSION:2.0
PRODID:-//ChamberMaster//Event Calendar 2.0//EN
METHOD:PUBLISH
X-PUBLISHED-TTL:P3D
REFRESH-INTERVAL:P3D
CALSCALE:GREGORIAN
BEGIN:VEVENT
DTSTART:20250423T163000Z
DTEND:20250423T180000Z
X-MICROSOFT-CDO-ALLDAYEVENT:FALSE
SUMMARY:2025 PMSMCA Women in the Mechanical Industry Lunch- APRIL
DESCRIPTION:PMSMCA will be hosting its April Women in Mechanical Industry Luncheon on April 23rd.  This month's lunch will focus on safety in the industry as we near Safety week in May.  PMSMCA's Associate Member DeWalt has generously offered to sponsor this month's lunch and will be providing attendees an update with what they are doing for Women in the Industry. \n\n\n\nThese lunches are driven from member feedback to create more opportunities for women in the industry to engage and connect.\n\n\n\n Looking forward to some great conversations and ideas to share as we expand this group of Women.
X-ALT-DESC;FMTTYPE=text/html:<br />\n<span style="font-size:18px\;"><span style="color:#000000\;"><span style="font-family:arial\;">PMSMCA will be hosting its April Women in Mechanical Industry Luncheon on April 23rd.&nbsp\; This month&#39\;s lunch will focus on safety in the industry as we near Safety week in May.&nbsp\; PMSMCA&#39\;s Associate Member DeWalt has generously offered to sponsor this month&#39\;s lunch and will be providing attendees an update with what they are doing for Women in the Industry.&nbsp\;<br />\n<br />\nThese lunches are driven from member feedback to create more opportunities for women in the industry to engage and connect.<br />\n<br />\n&#65279\;Looking forward to some great conversations and ideas to share as we expand this group of Women.</span></span></span>
LOCATION:Maggiano's Little Italy
UID:e.9269.351
SEQUENCE:3
DTSTAMP:20260419T143755Z
URL:https://www.pmsmca.com/events/details/2025-pmsmca-women-in-the-mechanical-industry-lunch-april-351
END:VEVENT

END:VCALENDAR
