BEGIN:VCALENDAR
VERSION:2.0
PRODID:-//ChamberMaster//Event Calendar 2.0//EN
METHOD:PUBLISH
X-PUBLISHED-TTL:P3D
REFRESH-INTERVAL:P3D
CALSCALE:GREGORIAN
BEGIN:VEVENT
DTSTART:20250423T150000Z
DTEND:20250423T163000Z
X-MICROSOFT-CDO-ALLDAYEVENT:FALSE
SUMMARY:2025 - MCA Affiliate Alliance -Performance Based Incentive Compensation
DESCRIPTION:84% of organizations offer some form of reward programs to employees. A well-designed compensation plan rewards both individual and group performance\, is connected to the performance management system\, and incentivize certain behaviors. Developing internal processes is critical to an effective incentive compensation system.\n\n			\n\n			Learning Objectives:\n\n			\n\n			Understand the importance of defined standards and processes\n\n			Identify how to utilize the right tools to drive desired outcomes\n\n			Measure performance with objective metrics and establish KRA-based job descriptions.\n		\n	\n\n \n\n\n	\n		\n			Stephane McShane\, a Director at Maxim Consulting Group\, brings extensive construction industry experience to help firms of all sizes optimize their operations. With expertise in leadership development\, coaching\, assessments\, planning\, project execution\, business development\, productivity enhancement\, and training\, she is an internationally acclaimed speaker\, mentor\, author\, and motivator. Stephane's journey from apprentice to executive management in electrical construction provides her with a unique perspective to conduct effective operational and organizational assessments. Her track record of turning teams into market leaders underscores her ability to swiftly identify strengths and weaknesses\, recommending actionable solutions.
X-ALT-DESC;FMTTYPE=text/html:<table border="0" cellpadding="0" cellspacing="0" style="border-collapse:collapse\;" width="0">\n	<tbody>\n		<tr style="height:21px\;">\n			<td style="border-top:none\;border-left:none\;border-bottom:solid #CCCCCC 1.0pt\;border-right:solid #CCCCCC 1.0pt\;padding:1.5pt 2.25pt 1.5pt 2.25pt\;height:21px\;vertical-align:top\;"><span style="font-size:11.0pt\;">84% of organizations offer some form of reward programs to employees. A well-designed compensation plan rewards both individual and group performance\, is connected to the performance management system\, and incentivize certain behaviors. Developing internal processes is critical to an effective incentive compensation system.<br />\n			<br />\n			Learning Objectives:<br />\n			<br />\n			Understand the importance of defined standards and processes<br />\n			Identify how to utilize the right tools to drive desired outcomes<br />\n			Measure performance with objective metrics and establish KRA-based job descriptions.</span></td>\n		</tr>\n	</tbody>\n</table>\n&nbsp\;\n\n<table border="0" cellpadding="0" cellspacing="0" style="border-collapse:collapse\;" width="0">\n	<tbody>\n		<tr style="height:21px\;">\n			<td style="border-top:none\;border-left:none\;border-bottom:solid #CCCCCC 1.0pt\;border-right:solid #CCCCCC 1.0pt\;padding:1.5pt 2.25pt 1.5pt 2.25pt\;height:21px\;vertical-align:top\;"><span style="font-size:11.0pt\;">Stephane McShane\, a Director at Maxim Consulting Group\, brings extensive construction industry experience to help firms of all sizes optimize their operations. With expertise in leadership development\, coaching\, assessments\, planning\, project execution\, business development\, productivity enhancement\, and training\, she is an internationally acclaimed speaker\, mentor\, author\, and motivator. Stephane&#39\;s journey from apprentice to executive management in electrical construction provides her with a unique perspective to conduct effective operational and organizational assessments. Her track record of turning teams into market leaders underscores her ability to swiftly identify strengths and weaknesses\, recommending actionable solutions.</span></td>\n		</tr>\n	</tbody>\n</table>\n
LOCATION:Webinar
UID:e.9269.347
SEQUENCE:3
DTSTAMP:20260419T131808Z
URL:https://www.pmsmca.com/events/details/2025-mca-affiliate-alliance-performance-based-incentive-compensation-347
END:VEVENT

END:VCALENDAR
