BEGIN:VCALENDAR
VERSION:2.0
PRODID:-//ChamberMaster//Event Calendar 2.0//EN
METHOD:PUBLISH
X-PUBLISHED-TTL:P3D
REFRESH-INTERVAL:P3D
CALSCALE:GREGORIAN
BEGIN:VEVENT
DTSTART:20250321T150000Z
DTEND:20250321T160000Z
X-MICROSOFT-CDO-ALLDAYEVENT:FALSE
SUMMARY:2025 - MCA Affiliate Alliance -National Certified Pipe Welding Bureau (NCPWB) - Webinar
DESCRIPTION:Join Ron King for a brief overview of the National Certified Pipe Welding Bureau (NCPWB) and how it simplifies welding and brazing qualification practices. Learn how NCPWB's standardized procedures\, compliance support\, cost-saving benefits\, and national database help contractors improve efficiency\, safety\, and quality. Don't miss this opportunity to enhance your welding operations!\n\n	\n		\n			Ron King joined MCAA National Office in April 2024 as Executive Director\, NCPWB & WebLEM responsible for welding procedures\, welder qualification tracking and labor units for the association. Prior to MCAA\, he was employed for 17 years by Trimble MEP as Director of Industry Relations and Business Development. Prior to joining Trimble\, he was employed for 17 years by GEM INC\, a multi-trade contractor in Northwest Ohio\, providing a broad range of industrial construction services. He also participates on the Pipe Fabrication Institute (PFI) Engineering Committee and various ELECTRI International Task forces.
X-ALT-DESC;FMTTYPE=text/html:<span style="font-family:aptos\,sans-serif\;"><span style="font-size:11.0pt\;">Join Ron King for a brief overview of the National Certified Pipe Welding Bureau (NCPWB) and how it simplifies welding and brazing qualification practices. Learn how NCPWB&rsquo\;s standardized procedures\, compliance support\, cost-saving benefits\, and national database help contractors improve efficiency\, safety\, and quality. Don&rsquo\;t miss this opportunity to enhance your welding operations!</span></span>\n<table border="0" cellpadding="0" cellspacing="0" style="border-collapse:collapse\;" width="0">\n	<tbody>\n		<tr style="height:21px\;">\n			<td style="border:solid #CCCCCC 1.0pt\;border-left:none\;padding:1.5pt 2.25pt 1.5pt 2.25pt\;height:21px\;vertical-align:top\;"><span style="font-size:11.0pt\;">Ron King joined MCAA National Office in April 2024 as Executive Director\, NCPWB &amp\; WebLEM responsible for welding procedures\, welder qualification tracking and labor units for the association. Prior to MCAA\, he was employed for 17 years by Trimble MEP as Director of Industry Relations and Business Development. Prior to joining Trimble\, he was employed for 17 years by GEM INC\, a multi-trade contractor in Northwest Ohio\, providing a broad range of industrial construction services. He also participates on the Pipe Fabrication Institute (PFI) Engineering Committee and various ELECTRI International Task forces.</span></td>\n		</tr>\n	</tbody>\n</table>\n
LOCATION:Webinar
UID:e.9269.346
SEQUENCE:3
DTSTAMP:20260419T143832Z
URL:https://www.pmsmca.com/events/details/2025-mca-affiliate-alliance-national-certified-pipe-welding-bureau-ncpwb-webinar-346
END:VEVENT

END:VCALENDAR
